BEGIN:VCALENDAR
VERSION:2.0
PRODID:-//Alumni Affairs - ECPv6.14.2//NONSGML v1.0//EN
CALSCALE:GREGORIAN
METHOD:PUBLISH
X-WR-CALNAME:Alumni Affairs
X-ORIGINAL-URL:https://westliberty.edu/alumni
X-WR-CALDESC:Events for Alumni Affairs
REFRESH-INTERVAL;VALUE=DURATION:PT1H
X-Robots-Tag:noindex
X-PUBLISHED-TTL:PT1H
BEGIN:VTIMEZONE
TZID:America/New_York
BEGIN:DAYLIGHT
TZOFFSETFROM:-0500
TZOFFSETTO:-0400
TZNAME:EDT
DTSTART:20250309T070000
END:DAYLIGHT
BEGIN:STANDARD
TZOFFSETFROM:-0400
TZOFFSETTO:-0500
TZNAME:EST
DTSTART:20251102T060000
END:STANDARD
BEGIN:DAYLIGHT
TZOFFSETFROM:-0500
TZOFFSETTO:-0400
TZNAME:EDT
DTSTART:20260308T070000
END:DAYLIGHT
BEGIN:STANDARD
TZOFFSETFROM:-0400
TZOFFSETTO:-0500
TZNAME:EST
DTSTART:20261101T060000
END:STANDARD
END:VTIMEZONE
BEGIN:VEVENT
DTSTART;VALUE=DATE:20251025
DTEND;VALUE=DATE:20251026
DTSTAMP:20260419T191144
CREATED:20250113T164325Z
LAST-MODIFIED:20250826T140618Z
UID:12586-1761350400-1761436799@westliberty.edu
SUMMARY:Homecoming 2025
DESCRIPTION:
URL:https://westliberty.edu/homecoming/
LOCATION:West Liberty University\, 208 University Drive\, West Liberty\, WV\, 26074\, United States
CATEGORIES:Alumni
ATTACH;FMTTYPE=image/png:https://westliberty.edu/alumni/files/2025/01/Homecoming-2025-logo.png
END:VEVENT
BEGIN:VEVENT
DTSTART;TZID=America/New_York:20251029T180000
DTEND;TZID=America/New_York:20251029T200000
DTSTAMP:20260419T191144
CREATED:20250904T165057Z
LAST-MODIFIED:20250904T165057Z
UID:12610-1761760800-1761768000@westliberty.edu
SUMMARY:WLU Alumni Gathering in Charleston\, WV
DESCRIPTION:Join President Tim Borchers\, Foundation Director Betsy Delk and Charleston\, WV-area alumni for a happy hour gathering. \nRegister today at https://forms.microsoft.com/r/cTnfJhEZ4j \nLocation: Fife Street Brewing\, 180 Summers St\, Charleston\, WV 25301
URL:https://westliberty.edu/alumni/event/wlu-alumni-gathering-in-charleston-wv/
LOCATION:West Virginia
CATEGORIES:Alumni
END:VEVENT
BEGIN:VEVENT
DTSTART;TZID=America/New_York:20251120T180000
DTEND;TZID=America/New_York:20251120T210000
DTSTAMP:20260419T191144
CREATED:20250904T165630Z
LAST-MODIFIED:20250904T165630Z
UID:12611-1763661600-1763672400@westliberty.edu
SUMMARY:WLU Alumni Gathering in Washington PA
DESCRIPTION:Join President Tim Borchers\, Foundation Director Betsy Delk and Pittsburgh-Wheeling alumni for a happy hour gathering. Heavy appetizers will be served. \nRegister today at https://forms.microsoft.com/r/86eVpZ72GB \nLocation: Hollywood Casino at the Meadows 210 Racetrack Rd Washington\, PA 15301
URL:https://westliberty.edu/alumni/event/wlu-alumni-gathering-in-washington-pa/
LOCATION:West Virginia
CATEGORIES:Alumni
END:VEVENT
BEGIN:VEVENT
DTSTART;TZID=America/New_York:20260204T180000
DTEND;TZID=America/New_York:20260204T220000
DTSTAMP:20260419T191144
CREATED:20260115T174749Z
LAST-MODIFIED:20260115T174953Z
UID:12626-1770228000-1770242400@westliberty.edu
SUMMARY:WLU Alumni Gathering and Basketball Watch Party in Morgantown\, WV
DESCRIPTION:You are invited to join West Liberty alums from the Morgantown area for a basketball watch party. \nLocation: Cafe Olivero \, 200 Fort Pierpont\, Morgantown\, WV 26508 \nRegister today at: Morgantown Alumni Gathering and Basketball Watch Party – Fill out form
URL:https://westliberty.edu/alumni/event/wlu-alumni-gathering-and-basketball-watch-party-in-morgantown-wv/
LOCATION:Cafe Olivero\, 200 Fort Pierpont\, Morgantown\, West Virginia\, 26508
CATEGORIES:Alumni
END:VEVENT
BEGIN:VEVENT
DTSTART;TZID=America/New_York:20260207T150000
DTEND;TZID=America/New_York:20260207T180000
DTSTAMP:20260419T191144
CREATED:20260106T153224Z
LAST-MODIFIED:20260106T154216Z
UID:12620-1770476400-1770487200@westliberty.edu
SUMMARY:WLU Alumni Gathering in DC\, Maryland and Virginia Area
DESCRIPTION:You are invited to join West Liberty alums from the DC\, Maryland and Virginia area at the home of Mike and Jill Sherman for a basketball watch party. \nRegister today at DMV Area Alumni Gathering RSVP – Fill out form \nLocation: Details will be shared with those who RSVP.
URL:https://westliberty.edu/alumni/event/wlu-alumni-gathering-dmv/
LOCATION:West Virginia
CATEGORIES:Alumni
END:VEVENT
BEGIN:VEVENT
DTSTART;TZID=America/New_York:20260226T170000
DTEND;TZID=America/New_York:20260226T190000
DTSTAMP:20260419T191144
CREATED:20260106T154538Z
LAST-MODIFIED:20260106T154538Z
UID:12623-1772125200-1772132400@westliberty.edu
SUMMARY:WLU Alumni Gathering in Charleston\, WV
DESCRIPTION:Join President Tim Borchers\, Foundation Director Betsy Delk\, and Deans and faculty for an Charleston\, WV-area alumni happy hour gathering. \nRegister today at  Charleston\, WV Area Alumni Gathering RSVP – Fill out form \nLocation: Fife Street Brewing\, 180 Summers St\, Charleston\, WV 25301
URL:https://westliberty.edu/alumni/event/wlu-alumni-gathering-in-charleston-wv-2/
LOCATION:West Virginia
CATEGORIES:Alumni
END:VEVENT
BEGIN:VEVENT
DTSTART;TZID=America/New_York:20260312T170000
DTEND;TZID=America/New_York:20260312T190000
DTSTAMP:20260419T191144
CREATED:20260106T153830Z
LAST-MODIFIED:20260106T175606Z
UID:12622-1773334800-1773342000@westliberty.edu
SUMMARY:WLU Alumni Gathering in Weirton\, WV
DESCRIPTION:Join President Tim Borchers\, Foundation Director Betsy Delk and Weirton\, WV-area alumni for a happy hour gathering. \nRegister today at Weirton\, WV Area Alumni Gathering RSVP – Fill out form \nLocation: Theo Yanni’s\, 322 American Way\, Weirton\, WV 26062
URL:https://westliberty.edu/alumni/event/wlu-alumni-gathering-in-weirton/
LOCATION:West Virginia
CATEGORIES:Alumni
END:VEVENT
END:VCALENDAR