BEGIN:VCALENDAR
VERSION:2.0
PRODID:-//Alumni Affairs - ECPv6.14.2//NONSGML v1.0//EN
CALSCALE:GREGORIAN
METHOD:PUBLISH
X-WR-CALNAME:Alumni Affairs
X-ORIGINAL-URL:https://westliberty.edu/alumni
X-WR-CALDESC:Events for Alumni Affairs
REFRESH-INTERVAL;VALUE=DURATION:PT1H
X-Robots-Tag:noindex
X-PUBLISHED-TTL:PT1H
BEGIN:VTIMEZONE
TZID:America/New_York
BEGIN:DAYLIGHT
TZOFFSETFROM:-0500
TZOFFSETTO:-0400
TZNAME:EDT
DTSTART:20250309T070000
END:DAYLIGHT
BEGIN:STANDARD
TZOFFSETFROM:-0400
TZOFFSETTO:-0500
TZNAME:EST
DTSTART:20251102T060000
END:STANDARD
END:VTIMEZONE
BEGIN:VEVENT
DTSTART;TZID=America/New_York:20250918T170000
DTEND;TZID=America/New_York:20250918T190000
DTSTAMP:20260419T094404
CREATED:20250826T140128Z
LAST-MODIFIED:20250826T160336Z
UID:12601-1758214800-1758222000@westliberty.edu
SUMMARY:WLU Alumni Gathering in Columbus
DESCRIPTION:Join President Tim Borchers\, Foundation Director Betsy Delk and Columbus-area alumni for a happy hour gathering hosted by Sharon ’79 and Jay ’79 Michael. Register today at forms.microsoft.com/r/KULnxE61K9 \nLocation: Law Office of Jay Michael\, 729 South Front Street\, Columbus\, OH 43206
URL:https://westliberty.edu/alumni/event/wlu-alumni-gathering-columbus-2025/
LOCATION:Law Office of Jay Michael\, 729 South Front Street\, Columbus\, 43206\, United States
CATEGORIES:Alumni
ATTACH;FMTTYPE=image/jpeg:https://westliberty.edu/alumni/files/2025/08/Columbus-Alumni-Gathering.jpg
END:VEVENT
END:VCALENDAR