BEGIN:VCALENDAR
VERSION:2.0
PRODID:-//Alumni Affairs - ECPv6.14.2//NONSGML v1.0//EN
CALSCALE:GREGORIAN
METHOD:PUBLISH
X-ORIGINAL-URL:https://westliberty.edu/alumni
X-WR-CALDESC:Events for Alumni Affairs
REFRESH-INTERVAL;VALUE=DURATION:PT1H
X-Robots-Tag:noindex
X-PUBLISHED-TTL:PT1H
BEGIN:VTIMEZONE
TZID:America/New_York
BEGIN:DAYLIGHT
TZOFFSETFROM:-0500
TZOFFSETTO:-0400
TZNAME:EDT
DTSTART:20250309T070000
END:DAYLIGHT
BEGIN:STANDARD
TZOFFSETFROM:-0400
TZOFFSETTO:-0500
TZNAME:EST
DTSTART:20251102T060000
END:STANDARD
END:VTIMEZONE
BEGIN:VEVENT
DTSTART;TZID=America/New_York:20250226T173000
DTEND;TZID=America/New_York:20250226T213000
DTSTAMP:20260421T054736
CREATED:20250113T153706Z
LAST-MODIFIED:20250127T165025Z
UID:12580-1740591000-1740605400@westliberty.edu
SUMMARY:WLU Columbus\, OH Alumni Basketball Watch Party
DESCRIPTION:Join fellow WLU alumni locally in Columbus\, OH for a watch party as we cheer on the Hilltoppers vs the Salem Tigers. Food is on us! A cash bar will be available. \nWomen’s game: 5:30PM\nMen’s game: 7:30PM \nLocation: The Daily Growler | 2812 Fishinger Rd\, Upper Arlington\, OH
URL:https://westliberty.edu/alumni/event/wlu-columbus-alumni-basketball-watch-party/
LOCATION:The Daily Growler\, 2812 Fishinger Rd\, Upper Arlington\, OH\, 43221\, United States
CATEGORIES:Alumni
END:VEVENT
END:VCALENDAR